BEGIN:VCALENDAR
VERSION:2.0
PRODID:-//MVMA - ECPv6.15.20//NONSGML v1.0//EN
CALSCALE:GREGORIAN
METHOD:PUBLISH
X-WR-CALNAME:MVMA
X-ORIGINAL-URL:https://www.mdvietmutual.org/vi
X-WR-CALDESC:Sự kiện cho MVMA
REFRESH-INTERVAL;VALUE=DURATION:PT1H
X-Robots-Tag:noindex
X-PUBLISHED-TTL:PT1H
BEGIN:VTIMEZONE
TZID:America/New_York
BEGIN:DAYLIGHT
TZOFFSETFROM:-0500
TZOFFSETTO:-0400
TZNAME:EDT
DTSTART:20250309T070000
END:DAYLIGHT
BEGIN:STANDARD
TZOFFSETFROM:-0400
TZOFFSETTO:-0500
TZNAME:EST
DTSTART:20251102T060000
END:STANDARD
BEGIN:DAYLIGHT
TZOFFSETFROM:-0500
TZOFFSETTO:-0400
TZNAME:EDT
DTSTART:20260308T070000
END:DAYLIGHT
BEGIN:STANDARD
TZOFFSETFROM:-0400
TZOFFSETTO:-0500
TZNAME:EST
DTSTART:20261101T060000
END:STANDARD
BEGIN:DAYLIGHT
TZOFFSETFROM:-0500
TZOFFSETTO:-0400
TZNAME:EDT
DTSTART:20270314T070000
END:DAYLIGHT
BEGIN:STANDARD
TZOFFSETFROM:-0400
TZOFFSETTO:-0500
TZNAME:EST
DTSTART:20271107T060000
END:STANDARD
END:VTIMEZONE
BEGIN:VEVENT
DTSTART;TZID=America/New_York:20260427T100000
DTEND;TZID=America/New_York:20260427T133000
DTSTAMP:20260422T175459
CREATED:20251029T160640Z
LAST-MODIFIED:20260413T202948Z
UID:1012-1777284000-1777296600@www.mdvietmutual.org
SUMMARY:Senior Wellness Program
DESCRIPTION:Join us for music\, food\, and fun.
URL:https://www.mdvietmutual.org/vi/calendar/senior-wellness-program-2/
LOCATION:Good Hope Neighborhood Recreation Center\, 14715 Good Hope Rd\, Silver Spring\, MD\, 20905\, United States
ATTACH;FMTTYPE=image/jpeg:https://www.mdvietmutual.org/wp-content/uploads/2025/10/goodhope3_webslider.jpg
END:VEVENT
BEGIN:VEVENT
DTSTART;TZID=America/New_York:20260429T100000
DTEND;TZID=America/New_York:20260429T133000
DTSTAMP:20260422T175459
CREATED:20260204T214432Z
LAST-MODIFIED:20260415T195927Z
UID:1796-1777456800-1777469400@www.mdvietmutual.org
SUMMARY:Senior Wellness Program
DESCRIPTION:Join us for music\, food\, and fun.
URL:https://www.mdvietmutual.org/vi/calendar/senior-wellness-program-3/
LOCATION:Good Hope Neighborhood Recreation Center\, 14715 Good Hope Rd\, Silver Spring\, MD\, 20905\, United States
ATTACH;FMTTYPE=image/jpeg:https://www.mdvietmutual.org/wp-content/uploads/2025/10/goodhope3_webslider.jpg
END:VEVENT
BEGIN:VEVENT
DTSTART;TZID=America/New_York:20260504T100000
DTEND;TZID=America/New_York:20260504T133000
DTSTAMP:20260422T175459
CREATED:20260206T173515Z
LAST-MODIFIED:20260420T185756Z
UID:1826-1777888800-1777901400@www.mdvietmutual.org
SUMMARY:Senior Wellness Program
DESCRIPTION:Join us for music\, food\, and fun.
URL:https://www.mdvietmutual.org/vi/calendar/senior-wellness-program-4/
LOCATION:Good Hope Neighborhood Recreation Center\, 14715 Good Hope Rd\, Silver Spring\, MD\, 20905\, United States
ATTACH;FMTTYPE=image/jpeg:https://www.mdvietmutual.org/wp-content/uploads/2025/10/goodhope3_webslider.jpg
END:VEVENT
BEGIN:VEVENT
DTSTART;TZID=America/New_York:20260506T100000
DTEND;TZID=America/New_York:20260506T133000
DTSTAMP:20260422T175459
CREATED:20251020T184422Z
LAST-MODIFIED:20260422T212122Z
UID:938-1778061600-1778074200@www.mdvietmutual.org
SUMMARY:Senior Wellness Program
DESCRIPTION:Join us for music\, food\, and fun.
URL:https://www.mdvietmutual.org/vi/calendar/senior-wellness-program/
LOCATION:Good Hope Neighborhood Recreation Center\, 14715 Good Hope Rd\, Silver Spring\, MD\, 20905\, United States
ATTACH;FMTTYPE=image/jpeg:https://www.mdvietmutual.org/wp-content/uploads/2025/10/goodhope3_webslider.jpg
END:VEVENT
BEGIN:VEVENT
DTSTART;TZID=America/New_York:20260607T100000
DTEND;TZID=America/New_York:20260607T140000
DTSTAMP:20260422T175459
CREATED:20260403T162401Z
LAST-MODIFIED:20260403T165823Z
UID:1990-1780826400-1780840800@www.mdvietmutual.org
SUMMARY:Academic Awards Ceremony
DESCRIPTION:Join us for our annual Maryland Vietnamese Mutual Association (MVMA) Academic Awards Ceremony.
URL:https://www.mdvietmutual.org/vi/calendar/academic-awards-ceremony/
LOCATION:Bohrer Park\, 506 South Frederick Ave\, Gaithersburg\, MD\, 20877\, United States
ATTACH;FMTTYPE=image/jpeg:https://www.mdvietmutual.org/wp-content/uploads/2026/04/638817903627570000.jpg
END:VEVENT
END:VCALENDAR